BEGIN:VCALENDAR
PRODID:-//Mozilla.org/NONSGML Mozilla Calendar V1.1//EN
VERSION:2.0
BEGIN:VEVENT
UID:69e878daaad3c@example.com
DTSTAMP:20260422T072930Z
DTSTART:20210801T100000Z
DTEND:20211215T100000Z
SUMMARY:This is an example of your Open Day title that would be added to a journalists calendar.
DESCRIPTION:This is an example of your Open Day description that would be added to a journalists calendar.
END:VEVENT
END:VCALENDAR